BEGIN:VCALENDAR
VERSION:2.0
PRODID:Fort Bend County, TX Calendar Creator
METHOD:PUBLISH
BEGIN:VEVENT
DTSTAMP:20260219T020011
DTSTART:20260407T030000
DTEND:20260407T090000
SUMMARY:Constable's Notice of Sale-Linebarger(24-DCV-323401/SALE CANCELLED)(24-DCV-316508*2/316462/316472-ALL SOLD)
DESCRIPTION:<p><drupal-entity-inline data-embed-button="document_embed" data-entity-embed-display="entity_reference:fbc_media_document" data-entity-embed-display-settings="{&quot;open_in_viewer&quot;:0,&quot;view
CLASS:PUBLIC
END:VEVENT
END:VCALENDAR
